BEGIN:VCALENDAR
VERSION:2.0
PRODID:-//St. Jakobus Ennigerloh - ECPv6.15.20//NONSGML v1.0//EN
CALSCALE:GREGORIAN
METHOD:PUBLISH
X-WR-CALNAME:St. Jakobus Ennigerloh
X-ORIGINAL-URL:https://ennigerloh-kirche.de
X-WR-CALDESC:Veranstaltungen für St. Jakobus Ennigerloh
REFRESH-INTERVAL;VALUE=DURATION:PT1H
X-Robots-Tag:noindex
X-PUBLISHED-TTL:PT1H
BEGIN:VTIMEZONE
TZID:UTC
BEGIN:STANDARD
TZOFFSETFROM:+0000
TZOFFSETTO:+0000
TZNAME:UTC
DTSTART:20250101T000000
END:STANDARD
END:VTIMEZONE
BEGIN:VEVENT
DTSTART;TZID=UTC:20260329T080000
DTEND;TZID=UTC:20260426T170000
DTSTAMP:20260424T020256
CREATED:20260226T163842Z
LAST-MODIFIED:20260226T163842Z
UID:15853-1774771200-1777222800@ennigerloh-kirche.de
SUMMARY:Osterkrippe - St. Laurentius
DESCRIPTION:Osterkrippe \nSo manche Menschen erfreuen sich Jahr für Jahr an unserer Osterkrippe. Auch in diesem Jahr hat der Liturgieausschuss diese Krippe zum Palmsonntag – mit dem Einzug Jesu in Jerusalem – wieder aufgebaut. Das Krippenbild verändert sich entsprechend der besonderen Tage in dieser Karwoche: am Gründonnerstag\, am Karfreitag und am Karsamstag zur Osternacht. \nAm vierten Ostersonntag\, 26. April\, dem Sonntag des Guten Hirten\, wird ein letztes Bild dargestellt. \nUm das Geheimnis vom Tod und der Auferstehung Jesu werden wir viele Worte hören. Die Bilder der Osterkrippe können uns helfen\, die Ereignisse\, die sich in diesen Tagen um Jesus ranken\, noch tiefer in uns aufzunehmen. \n 
URL:https://ennigerloh-kirche.de/event/osterkrippe-st-laurentius/
LOCATION:St. Laurentius Kirche\, Westkirchen
END:VEVENT
BEGIN:VEVENT
DTSTART;TZID=UTC:20260424T110000
DTEND;TZID=UTC:20260424T120000
DTSTAMP:20260424T020256
CREATED:20260423T085414Z
LAST-MODIFIED:20260423T085414Z
UID:16619-1777028400-1777032000@ennigerloh-kirche.de
SUMMARY:Pfingstsonntag St. Jakobus
DESCRIPTION:Gottesdienste zu Pfingsten \nAm Pfingstsonntag\, 24.05. laden wir herzlich zur Festmesse um 11 Uhr ein.
URL:https://ennigerloh-kirche.de/event/pfingstsonntag-st-jakobus-3/
LOCATION:St. Jakobus Kirche\, Clemens- August- Straße\, Ennigerloh\, NRW\, 59320\, Deutschland
END:VEVENT
BEGIN:VEVENT
DTSTART;TZID=UTC:20260424T180000
DTEND;TZID=UTC:20260424T200000
DTSTAMP:20260424T020256
CREATED:20260219T161802Z
LAST-MODIFIED:20260219T161802Z
UID:15694-1777053600-1777060800@ennigerloh-kirche.de
SUMMARY:Frühlingswanderung Landfrauen - St. Laurentius
DESCRIPTION:Frühlingswanderung (für die Rückfahrt vom Zielpunkt ist gesorgt) \nOrt:                  ab St. Laurentius Kirche \nBeginn:           18:00 Uhr \nAnmeldung:    Claudia Laukötter\, Tel. 935686 \n                        Bis zum 15.04.2026
URL:https://ennigerloh-kirche.de/event/fruehlingswanderung-landfrauen-st-laurentius/
LOCATION:St. Laurentius Kirche\, Westkirchen
END:VEVENT
END:VCALENDAR