BEGIN:VCALENDAR
VERSION:2.0
PRODID:-//St. Jakobus Ennigerloh - ECPv6.15.20//NONSGML v1.0//EN
CALSCALE:GREGORIAN
METHOD:PUBLISH
X-ORIGINAL-URL:https://ennigerloh-kirche.de
X-WR-CALDESC:Veranstaltungen für St. Jakobus Ennigerloh
REFRESH-INTERVAL;VALUE=DURATION:PT1H
X-Robots-Tag:noindex
X-PUBLISHED-TTL:PT1H
BEGIN:VTIMEZONE
TZID:UTC
BEGIN:STANDARD
TZOFFSETFROM:+0000
TZOFFSETTO:+0000
TZNAME:UTC
DTSTART:20250101T000000
END:STANDARD
END:VTIMEZONE
BEGIN:VEVENT
DTSTART;TZID=UTC:20260427T190000
DTEND;TZID=UTC:20260427T200000
DTSTAMP:20260424T151408
CREATED:20260219T152607Z
LAST-MODIFIED:20260219T152607Z
UID:15677-1777316400-1777320000@ennigerloh-kirche.de
SUMMARY:Monatliche Gemeinschaftsmesse KFW - St. Laurentius
DESCRIPTION:Monatliche Gemeinschaftsmesse \nDie Kath. Frauengemeinschaft St. Laurentius lädt jeden letzten Montag im Monat um 19:00 Uhr zu ihren Gottesdiensten ein.\n\n\n27. April 2026 \n18. Mai 2026 \n27. Juli 2026 \n31. August 2026
URL:https://ennigerloh-kirche.de/event/monatliche-gemeinschaftsmesse-kfw-st-laurentius-7/
LOCATION:St. Laurentius Kirche\, Westkirchen
END:VEVENT
BEGIN:VEVENT
DTSTART;TZID=UTC:20260427T190000
DTEND;TZID=UTC:20260427T210000
DTSTAMP:20260424T151408
CREATED:20260415T100353Z
LAST-MODIFIED:20260415T100353Z
UID:16499-1777316400-1777323600@ennigerloh-kirche.de
SUMMARY:Suchen und Fragen
DESCRIPTION:Suchen und Fragen \nAm Montag\, 27. April lädt die Reihe „Suchen und Fragen“ um 19 UHR auf die Tenne ein. \nPfarrer Andreas Dieckmann wird zum Thema „„Das ist für euch der wahre und angemessene Gottesdienst.“ (Röm 12\,1) Die sonntägliche Feier der Eucharistie. Annäherungen an ihren Aufbau und ihre Bedeutung.“ referieren.
URL:https://ennigerloh-kirche.de/event/suchen-und-fragen-5/
LOCATION:Pfarrhaustenne
END:VEVENT
BEGIN:VEVENT
DTSTART;TZID=UTC:20260427T193000
DTEND;TZID=UTC:20260427T210000
DTSTAMP:20260424T151408
CREATED:20250917T090715Z
LAST-MODIFIED:20250917T090715Z
UID:13682-1777318200-1777323600@ennigerloh-kirche.de
SUMMARY:Informationsabend Erstkommunion St. Jakobus
DESCRIPTION:Am Montag\, 27.04. findet um 19.30 Uhr ein Informationsabend für die Erstkommunion im Jakobushaus statt.
URL:https://ennigerloh-kirche.de/event/informationsabend-erstkommunion-st-jakobus/
LOCATION:Jakobus- Haus\, Clemens- August- Straße\, Ennigerloh\, 59320
END:VEVENT
END:VCALENDAR