BEGIN:VCALENDAR
VERSION:2.0
PRODID:-//St. Jakobus Ennigerloh - ECPv6.15.20//NONSGML v1.0//EN
CALSCALE:GREGORIAN
METHOD:PUBLISH
X-ORIGINAL-URL:https://ennigerloh-kirche.de
X-WR-CALDESC:Veranstaltungen für St. Jakobus Ennigerloh
REFRESH-INTERVAL;VALUE=DURATION:PT1H
X-Robots-Tag:noindex
X-PUBLISHED-TTL:PT1H
BEGIN:VTIMEZONE
TZID:UTC
BEGIN:STANDARD
TZOFFSETFROM:+0000
TZOFFSETTO:+0000
TZNAME:UTC
DTSTART:20250101T000000
END:STANDARD
END:VTIMEZONE
BEGIN:VEVENT
DTSTART;TZID=UTC:20260419T140000
DTEND;TZID=UTC:20260419T180000
DTSTAMP:20260420T093315
CREATED:20260325T122434Z
LAST-MODIFIED:20260325T122434Z
UID:16317-1776607200-1776621600@ennigerloh-kirche.de
SUMMARY:Einladung zum Kuchensonntag
DESCRIPTION:Die Mitglieder der Chorgemeinschaften laden alle Gemeindemitglieder und Interessierte herzlich zum Kuchensonntag ab 14 Uhr ins Pfarrheim Ostenfelde ein.  Die Mitglieder freuen sich über Spenden für neue Notenmappen.
URL:https://ennigerloh-kirche.de/event/einladung-zum-kuchensonntag/
LOCATION:Pfarrheim St. Margaretha\, Pfarrer-Lehmköster-Weg\, Ennigerloh-Ostenfelde\, NRW\, 59320\, Deutschland
END:VEVENT
BEGIN:VEVENT
DTSTART;TZID=UTC:20260419T110000
DTEND;TZID=UTC:20260419T120000
DTSTAMP:20260420T093315
CREATED:20260402T132640Z
LAST-MODIFIED:20260402T132640Z
UID:16395-1776596400-1776600000@ennigerloh-kirche.de
SUMMARY:Kirche kunterbunt Enniger
DESCRIPTION:Die Kirche Kunterbunt lädt alle Kinder bis ca. 2 Schuljahr mit Ihren Eltern am 19. April um 11 Uhr in die Mauritiuskirche ein. \n 
URL:https://ennigerloh-kirche.de/event/kirche-kunterbunt-enniger/
LOCATION:St. Mauritius Kirche
ORGANIZER;CN="Kath. Kirchengemeinde St. Mauritius":MAILTO:stmauritius-enniger@bistum-muenster.de
END:VEVENT
BEGIN:VEVENT
DTSTART;TZID=UTC:20260419T103000
DTEND;TZID=UTC:20260419T113000
DTSTAMP:20260420T093315
CREATED:20260402T132533Z
LAST-MODIFIED:20260402T132533Z
UID:16393-1776594600-1776598200@ennigerloh-kirche.de
SUMMARY:Gemeindecafé St. Mauritius
DESCRIPTION:Am Sonntag\, 19. April sind alle Gemeindemitglieder herzlich zum Gemeindecafé im Anschluss an die Messe ins Mauritiusheim eingeladen. Der Gemeinderat freut sich auf Sie.
URL:https://ennigerloh-kirche.de/event/gemeindecafe-st-mauritius-3/
LOCATION:Mauritius Heim\, Kirchplatz\, Ennigerloh/ Enniger\, NRW\, 59320\, Deutschland
ORGANIZER;CN="Kath. Kirchengemeinde St. Mauritius":MAILTO:stmauritius-enniger@bistum-muenster.de
END:VEVENT
BEGIN:VEVENT
DTSTART;TZID=UTC:20260418T170000
DTEND;TZID=UTC:20260418T190000
DTSTAMP:20260420T093315
CREATED:20260402T132416Z
LAST-MODIFIED:20260402T132416Z
UID:16391-1776531600-1776538800@ennigerloh-kirche.de
SUMMARY:Infoabend ST. Mauritius Indienreise
DESCRIPTION:Nach der erfolgreichen Pilgerreise im letzten November organisieren wir\, \nPater Tomy und Pfarrer Shaji\, in diesem Jahr erneut eine Pilgerreise nach Indien. \n  \nDie Reise findet vom 12. bis 26. November 2026 statt. \n  \nEin Infoabend zu dieser Reise findet am Samstag\, 18. April um 17.00 Uhr im Mauritiusheim in. \nEnniger statt. \nAlle Interessierten sind herzlich eingeladen\, sich bei Pfarrer Shaji zu melden
URL:https://ennigerloh-kirche.de/event/infoabend-st-mauritius-indienreise/
LOCATION:Mauritius Heim\, Kirchplatz\, Ennigerloh/ Enniger\, NRW\, 59320\, Deutschland
END:VEVENT
BEGIN:VEVENT
DTSTART;TZID=UTC:20260418T100000
DTEND;TZID=UTC:20260418T120000
DTSTAMP:20260420T093315
CREATED:20260226T163402Z
LAST-MODIFIED:20260226T163402Z
UID:15849-1776506400-1776513600@ennigerloh-kirche.de
SUMMARY:Feier der Erstkommunion - St. Laurentius
DESCRIPTION:Erstkommunion \nAm Samstag\, 18. April\, um 10.00 Uhr feiern 17 Mädchen und Jungen ihre Erstkommunion. \nDer Dankgottesdienst ist am Sonntag\, 26. April um 9.30 Uhr \n 
URL:https://ennigerloh-kirche.de/event/feier-der-erstkommunion-st-laurentius/
LOCATION:St. Laurentius Kirche\, Westkirchen
END:VEVENT
BEGIN:VEVENT
DTSTART;TZID=UTC:20260416T190000
DTEND;TZID=UTC:20260416T210000
DTSTAMP:20260420T093315
CREATED:20260416T144218Z
LAST-MODIFIED:20260416T144218Z
UID:16538-1776366000-1776373200@ennigerloh-kirche.de
SUMMARY:Maiandacht Haus Geist
DESCRIPTION:Maiandachten\nIm Monat Mai feiern wir jeden Dienstag an unterschiedlichen Orten in der Gemeinde Maiandachten zu Ehren Marias. \nSo laden wir herzlich zur nächsten Maiandacht\, am Dienstag\, 12.05. um 19 Uhr am Schloss Haus Geist in Oelde ein. Gestaltet wird diese Maiandacht von Pastor Dieckmann. Anschließend sorgt die Messdienergemeinschaft Oelde für das leibliche Wohl. Es gibt Grillwürstchen und Getränke. \n  
URL:https://ennigerloh-kirche.de/event/maiandacht-haus-geist/
END:VEVENT
BEGIN:VEVENT
DTSTART;TZID=UTC:20260416T190000
DTEND;TZID=UTC:20260416T200000
DTSTAMP:20260420T093315
CREATED:20260226T163115Z
LAST-MODIFIED:20260226T163115Z
UID:15847-1776366000-1776369600@ennigerloh-kirche.de
SUMMARY:Kommunionvorbereitung - St. Laurentius
DESCRIPTION:Am Donnerstag\, 16. April\, treffen sich die Kommunionkinder gemeinsam mit den Eltern um 19.00 Uhr zu einer letzten Absprache in der Kirche.
URL:https://ennigerloh-kirche.de/event/kommunionvorbereitung-st-laurentius/
LOCATION:St. Laurentius Kirche\, Westkirchen
END:VEVENT
BEGIN:VEVENT
DTSTART;TZID=UTC:20260416T183000
DTEND;TZID=UTC:20260416T184500
DTSTAMP:20260420T093315
CREATED:20260317T110604Z
LAST-MODIFIED:20260317T110604Z
UID:16223-1776364200-1776365100@ennigerloh-kirche.de
SUMMARY:Friedensgebet St. Jakobus
DESCRIPTION:Friedensgebet \nZu einem 15minütigen Friedensgebet laden wir am Donnerstag\, 16.04. um 18.30 Uhr in die Jakobuskirche ein.
URL:https://ennigerloh-kirche.de/event/friedensgebet-st-jakobus-59/
LOCATION:St. Jakobus Kirche\, Clemens- August- Straße\, Ennigerloh\, NRW\, 59320\, Deutschland
END:VEVENT
BEGIN:VEVENT
DTSTART;TZID=UTC:20260416T170000
DTEND;TZID=UTC:20260416T180000
DTSTAMP:20260420T093315
CREATED:20250917T090351Z
LAST-MODIFIED:20250917T090351Z
UID:13678-1776358800-1776362400@ennigerloh-kirche.de
SUMMARY:Weggottesdienst St. Jakobus
DESCRIPTION:Die Erstkommunionkinder feiern am Donnerstag\, 16.04.2026 um 17 Uhr einen Weggottesdienst mit Sabine Grimpe in der St. Jakobus Kirche.
URL:https://ennigerloh-kirche.de/event/weggottesdienst-st-jakobus-6/
LOCATION:St. Jakobus Kirche\, Clemens- August- Straße\, Ennigerloh\, NRW\, 59320\, Deutschland
END:VEVENT
BEGIN:VEVENT
DTSTART;TZID=UTC:20260416T100000
DTEND;TZID=UTC:20260416T113000
DTSTAMP:20260420T093315
CREATED:20260317T110526Z
LAST-MODIFIED:20260317T110526Z
UID:16221-1776333600-1776339000@ennigerloh-kirche.de
SUMMARY:Bibelgesprächskreis
DESCRIPTION:Bibelgesprächskreis\nDer nächste Bibelgesprächskreis mit Pastoralreferent Otto Aarts findet am Donnerstag\, 16.04. um 10 Uhr im Jakobushaus statt.
URL:https://ennigerloh-kirche.de/event/bibelgespraechskreis-21/
LOCATION:Jakobus- Haus\, Clemens- August- Straße\, Ennigerloh\, 59320
END:VEVENT
BEGIN:VEVENT
DTSTART;TZID=UTC:20260415T160000
DTEND;TZID=UTC:20260415T170000
DTSTAMP:20260420T093315
CREATED:20260226T163007Z
LAST-MODIFIED:20260226T163007Z
UID:15845-1776268800-1776272400@ennigerloh-kirche.de
SUMMARY:Üben der Kommunionkinder - St. Laurentius
DESCRIPTION:Am Mittwoch\, 15. April\, treffen sich die 17 Mädchen und Jungen\, um 16.00 Uhr in der Kirche\, um den Gottesdienst vorzubereiten.
URL:https://ennigerloh-kirche.de/event/ueben-der-kommunionkinder-st-laurentius-2/
LOCATION:St. Laurentius Kirche\, Westkirchen
END:VEVENT
BEGIN:VEVENT
DTSTART;TZID=UTC:20260415T150000
DTEND;TZID=UTC:20260415T170000
DTSTAMP:20260420T093315
CREATED:20260402T132259Z
LAST-MODIFIED:20260402T132259Z
UID:16389-1776265200-1776272400@ennigerloh-kirche.de
SUMMARY:Seniorinnnen und Senioren Enniger
DESCRIPTION:Am Mittwoch\, 15. April sind alle Senioren herzliche zu einem gemeinsamen Nachmittag um 15. Uhr in das Mauritiusheim eingeladen. Anmeldungen nimmt Annette Kottenstedde entgegen.
URL:https://ennigerloh-kirche.de/event/seniorinnnen-und-senioren-enniger/
LOCATION:Mauritius Heim\, Kirchplatz\, Ennigerloh/ Enniger\, NRW\, 59320\, Deutschland
ORGANIZER;CN="Kath. Kirchengemeinde St. Mauritius":MAILTO:stmauritius-enniger@bistum-muenster.de
END:VEVENT
BEGIN:VEVENT
DTSTART;TZID=UTC:20260415T000000
DTEND;TZID=UTC:20260415T000000
DTSTAMP:20260420T093315
CREATED:20260415T095118Z
LAST-MODIFIED:20260415T095118Z
UID:16497-1776211200-1776211200@ennigerloh-kirche.de
SUMMARY:Maiandacht Hof Rößmann
DESCRIPTION:Maiandachten\nIm Monat Mai feiern wir jeden Dienstag an unterschiedlichen Orten in der Gemeinde Maiandachten zu Ehren Marias. \nSo laden wir herzlich zur ersten Maiandacht\, am Dienstag\, 05.05. um 19 Uhr am Hof Rößmann\, \nFreesland 12 ein. Gestaltet wird diese Maiandacht von den Landfrauen und Pastoralreferentin Sabine Grimpe. Anschließend sorgt die Landjugend für das leibliche Wohl. Es gibt Grillwürstchen und Getränke. \n 
URL:https://ennigerloh-kirche.de/event/maiandacht-hof-roessmann/
END:VEVENT
BEGIN:VEVENT
DTSTART;TZID=UTC:20260414T083000
DTEND;TZID=UTC:20260414T110000
DTSTAMP:20260420T093315
CREATED:20260317T110640Z
LAST-MODIFIED:20260317T110640Z
UID:16225-1776155400-1776164400@ennigerloh-kirche.de
SUMMARY:Morgentreff St. Jakobus
DESCRIPTION:Morgentreff \nAlle Frauen sind am Dienstag\, 14.04. um 8.30 Uhr zu einer Wort-Gottes-Feier mit Sabine Grimpe in die Jakobuskirche eingeladen. Anschließend wird gemeinsam im Jakobushaus gefrühstückt. Alle Interessierten sind herzlich eingeladen.
URL:https://ennigerloh-kirche.de/event/morgentreff-st-jakobus-21/
LOCATION:St. Jakobus Kirche\, Clemens- August- Straße\, Ennigerloh\, NRW\, 59320\, Deutschland
END:VEVENT
BEGIN:VEVENT
DTSTART;TZID=UTC:20260411T100000
DTEND;TZID=UTC:20260411T110000
DTSTAMP:20260420T093315
CREATED:20260325T121701Z
LAST-MODIFIED:20260325T121701Z
UID:16313-1775901600-1775905200@ennigerloh-kirche.de
SUMMARY:Feier der Erstkommunion
DESCRIPTION:Am Samstag\, 11. April\, gehen in der Eucharistiefeier um 10 Uhr\, 8 Mädchen und 6 Jungen zur Erstkommunion. Die Kinder haben sich mit ganz viel Freude in den vergangenen Wochen und Monaten auf diesen Tag vorbereitet. \nHerzlichen Dank sei den Eltern gesagt\, die die Kinder in der Familienkatechese begleitet und unterstützt haben. Dank aber auch an die Katechetinnen Alexandra Meyer und \nSteffi Kemper\, die mit ganz viel Freude und Engagement\, in den Wochen der Vorbereitung den Eltern und Kindern zur Seite standen. \nAllen Mitfeiernden wünschen wir einen beeindruckenden Gottesdienst und einen richtig schönen Festtag! \nDer Dankgottesdienst der Kommunionkinder ist am Sonntag\, 19. April um 9.30 Uhr.
URL:https://ennigerloh-kirche.de/event/feier-der-erstkommunion-2/
LOCATION:St. Margaretha Kirche\, Hessenknapp 10\, Ennigerloh_Ostenfelde\, NRW\, 59320\, Deutschland
END:VEVENT
BEGIN:VEVENT
DTSTART;TZID=UTC:20260410T170000
DTEND;TZID=UTC:20260410T180000
DTSTAMP:20260420T093315
CREATED:20260312T163931Z
LAST-MODIFIED:20260312T163931Z
UID:16186-1775840400-1775844000@ennigerloh-kirche.de
SUMMARY:Ostergottesdienst im Christophorushaus
DESCRIPTION:Ostergottesdienst im Christophorushaus  \nAm Freitag\, 10.04. um 17 Uhr feiert Pfarrer Dieckmann einen Ostergottesdienst mit den Bewohnern des Christophorushauses im Christophorushaus.
URL:https://ennigerloh-kirche.de/event/ostergottesdienst-im-christophorushaus/
LOCATION:Christophorushaus\, Ennigerloh
END:VEVENT
BEGIN:VEVENT
DTSTART;TZID=UTC:20260409T183000
DTEND;TZID=UTC:20260409T184500
DTSTAMP:20260420T093315
CREATED:20260312T163846Z
LAST-MODIFIED:20260312T163846Z
UID:16184-1775759400-1775760300@ennigerloh-kirche.de
SUMMARY:Friedensgebet St. Jakobus
DESCRIPTION:Friedensgebet \nZu einem 15minütigen Friedensgebet laden wir am Donnerstag\, 09.04.  um 18.30 Uhr in die Jakobuskirche ein. \n 
URL:https://ennigerloh-kirche.de/event/friedensgebet-st-jakobus-58/
LOCATION:St. Jakobus Kirche\, Clemens- August- Straße\, Ennigerloh\, NRW\, 59320\, Deutschland
END:VEVENT
BEGIN:VEVENT
DTSTART;TZID=UTC:20260409T132000
DTEND;TZID=UTC:20260409T173000
DTSTAMP:20260420T093315
CREATED:20260304T155134Z
LAST-MODIFIED:20260304T155420Z
UID:16014-1775740800-1775755800@ennigerloh-kirche.de
SUMMARY:Seniorenfahrt Museumsabtei Liesborn
DESCRIPTION:Senioren \nAlle Senioren sind am Donnerstag\, 09.04. zu einer Fahrt zur Museumsabtei Liesborn eingeladen. Der Besuch beginnt mit einer 45-minütigen Führung durch die Museumsabtei. Im Anschluss klingt der Nachmittag bei Kaffee und Kuchen im Ludgerushaus in Liesborn gemütlich aus. Abfahrt ist um 13.20 Uhr ab Bushaltestelle Rottendorf und um 13.30 Uhr ab Markt. Die Ankunft in Ennigerloh ist für 17.30 Uhr geplant. Anmeldungen werden gerne im Pfarrbüro entgegengenommen.
URL:https://ennigerloh-kirche.de/event/seniorenfahrt-museumsabtei-liesborn/
END:VEVENT
BEGIN:VEVENT
DTSTART;TZID=UTC:20260407T143000
DTEND;TZID=UTC:20260407T170000
DTSTAMP:20260420T093315
CREATED:20260325T121218Z
LAST-MODIFIED:20260325T121218Z
UID:16311-1775572200-1775581200@ennigerloh-kirche.de
SUMMARY:Seniorennachmittag
DESCRIPTION:Am Dienstag treffen sich unsere Senioren um 14.30 Uhr zum gemütlichen beisammen sein im Pfarrheim
URL:https://ennigerloh-kirche.de/event/seniorennachmittag-4/
LOCATION:Pfarrheim St. Margaretha\, Pfarrer-Lehmköster-Weg\, Ennigerloh-Ostenfelde\, NRW\, 59320\, Deutschland
END:VEVENT
BEGIN:VEVENT
DTSTART;TZID=UTC:20260407T080000
DTEND;TZID=UTC:20260411T170000
DTSTAMP:20260420T093315
CREATED:20260226T153503Z
LAST-MODIFIED:20260226T153503Z
UID:15796-1775548800-1775926800@ennigerloh-kirche.de
SUMMARY:Grundkurs für GruppenleiterInnen - Kolping St. Laurentius
DESCRIPTION:Jugendliche ab 16 Jahren können in den Osterferien an diesem Kurs des Diözesanverbandes von Dienstag\, 07. April bis Samstag\, 11. April 2026 im Jugendhaus Mariannhill in Reken teilnehmen. In einem Kurs über 5 Tage werden die jungen GruppenleiterInnen für verantwortungsvolle Aufgaben in der Kinder- und Jugendarbeit fit gemacht. \nInhalte des Kurses: \n\nLeitungsstile und Rollenverständnis\n\n\nKonflikte und Lösungsstrategien\nrechtliche Grundlagen\nEntwicklung von Kindern und Jugendlichen\nMöglichkeiten zur Beteiligung im Verband\nGrundlagen der Spielepädagogik\nPrävention von sexualisierter Gewalt\n\nDer Grundkurs legt den Grundstein für verantwortungsvolles Gruppenleiten. Am Ende des Kurses bekommt jede*r Teilnehmende*r eine Bescheinigung\, mit der sie*er (zusammen mit der Teilnahme an einem Erste-Hilfe-Kurs und dem Nachweis von ehrenamtlichem Engagement) die Jugendleiter-Card (www.juleica.de) beantragen kann. \nFür Kolping-Mitglieder beläuft sich der Beitrag auf 35 Euro\, Nicht-Mitglieder zahlen 80 Euro. \nAnmeldung erfolgt direkt bei Diözesanverband Münster und Mitglieder/-innen können die Rechnung dann bei unserem Kassierer Christoph Grünebaum einreichen. \n\nGrundkurse 2026 Wochenkurse \n\n  \n 
URL:https://ennigerloh-kirche.de/event/grundkurs-fuer-gruppenleiterinnen-kolping-st-laurentius/
END:VEVENT
BEGIN:VEVENT
DTSTART;TZID=UTC:20260406T110000
DTEND;TZID=UTC:20260406T120000
DTSTAMP:20260420T093315
CREATED:20260312T163007Z
LAST-MODIFIED:20260312T163332Z
UID:16172-1775473200-1775476800@ennigerloh-kirche.de
SUMMARY:Familiengottesdienst Ostermontag St. Jakobus
DESCRIPTION:Ostermontag  \nAm Ostermontag\, 06.04. laden wir um 11 Uhr zu einem Familiengottesdienst ein. Anschließend können die Kinder rund um das Jakobus- und Pfarrhaus Ostereier suchen.
URL:https://ennigerloh-kirche.de/event/ostermontag-st-jakobus-4/
LOCATION:St. Jakobus Kirche\, Clemens- August- Straße\, Ennigerloh\, NRW\, 59320\, Deutschland
END:VEVENT
BEGIN:VEVENT
DTSTART;TZID=UTC:20260406T110000
DTEND;TZID=UTC:20260406T120000
DTSTAMP:20260420T093315
CREATED:20260226T164238Z
LAST-MODIFIED:20260226T164238Z
UID:15861-1775473200-1775476800@ennigerloh-kirche.de
SUMMARY:Ostermontag Gottesdienst - St. Laurentius
DESCRIPTION:Am Ostermontag\, 06. April\, beginnt der Gottesdienst\, der auch vom Kirchenchor musikalisch mitgestaltet wird\, um 11.00 Uhr. \nZur Mitfeier der Gottesdienste an den Kar- und Ostertagen laden wir ganz herzlich ein!
URL:https://ennigerloh-kirche.de/event/ostermontag-gottesdienst-st-laurentius/
LOCATION:St. Laurentius Kirche\, Westkirchen
END:VEVENT
BEGIN:VEVENT
DTSTART;TZID=UTC:20260406T093000
DTEND;TZID=UTC:20260406T103000
DTSTAMP:20260420T093315
CREATED:20260325T120522Z
LAST-MODIFIED:20260325T120522Z
UID:16304-1775467800-1775471400@ennigerloh-kirche.de
SUMMARY:Gottesdienste Ostern
DESCRIPTION:  \nAm Ostermontag\, 06. April\, beginnt der Gottesdienst um 9.30 Uhr. \nZur Mitfeier der Gottesdienste an den Kar- und Ostertagen\, die musikalisch von unseren Chören unterstützt werden\, laden wir ganz herzlich ein!
URL:https://ennigerloh-kirche.de/event/gottesdienste-ostern-2/
LOCATION:St. Margaretha Kirche\, Hessenknapp 10\, Ennigerloh_Ostenfelde\, NRW\, 59320\, Deutschland
END:VEVENT
BEGIN:VEVENT
DTSTART;TZID=UTC:20260405T183000
DTEND;TZID=UTC:20260405T223000
DTSTAMP:20260420T093315
CREATED:20260226T161147Z
LAST-MODIFIED:20260226T161147Z
UID:15827-1775413800-1775428200@ennigerloh-kirche.de
SUMMARY:Osterfeuer - KLJB St. Laurentius
DESCRIPTION:Die Landjugend lädt am Ostersonntag\, 05. April um 18:30 Uhr zum Besuch des Osterfeuers ein. Der Ort wird noch in der Kirche und in der Zeitung bekanntgegeben.\nWie in den Vorjahren werden für die Besucher Getränke und Bratwürstchen angeboten.
URL:https://ennigerloh-kirche.de/event/osterfeuer-kljb-st-laurentius/
END:VEVENT
BEGIN:VEVENT
DTSTART;TZID=UTC:20260405T173000
DTEND;TZID=UTC:20260405T220000
DTSTAMP:20260420T093315
CREATED:20260325T121049Z
LAST-MODIFIED:20260325T121049Z
UID:16309-1775410200-1775426400@ennigerloh-kirche.de
SUMMARY:Osterfeuer der KLJB Ostenfelde
DESCRIPTION:Die Landjugend lädt am Ostersonntag\, 05. April ab 17.30 Uhr zum Besuch des Osterfeuers auf dem Schützenplatz ein. \nFür das leibliche Wohl wird bestens gesorgt sein.
URL:https://ennigerloh-kirche.de/event/osterfeuer-der-kljb-ostenfelde-2/
LOCATION:Schützenplatz Ostenfelde\, Ostenfelde
END:VEVENT
BEGIN:VEVENT
DTSTART;TZID=UTC:20260405T110000
DTEND;TZID=UTC:20260405T120000
DTSTAMP:20260420T093315
CREATED:20260312T162849Z
LAST-MODIFIED:20260312T162849Z
UID:16170-1775386800-1775390400@ennigerloh-kirche.de
SUMMARY:Ostersonntag St. Jakobus
DESCRIPTION:Ostersonntag \nAm Ostersonntag\, 05.04. feiern wir um 11.00 Uhr eine Festmesse\, die musikalisch vom Kirchenchor St. Jakobus/St. Mauritius mitgestaltet wird.
URL:https://ennigerloh-kirche.de/event/ostersonntag-st-jakobus/
LOCATION:St. Jakobus Kirche\, Clemens- August- Straße\, Ennigerloh\, NRW\, 59320\, Deutschland
END:VEVENT
BEGIN:VEVENT
DTSTART;TZID=UTC:20260405T100000
DTEND;TZID=UTC:20260405T110000
DTSTAMP:20260420T093315
CREATED:20260325T120411Z
LAST-MODIFIED:20260325T120411Z
UID:16302-1775383200-1775386800@ennigerloh-kirche.de
SUMMARY:Gottesdienste Ostern
DESCRIPTION:Die Eucharistiefeier am Ostersonntag\, 05. April\, ist um 10 Uhr. \nAm Ostermontag\, 06. April\, beginnt der Gottesdienst um 9.30 Uhr. \nZur Mitfeier der Gottesdienste an den Kar- und Ostertagen\, die musikalisch von unseren Chören unterstützt werden\, laden wir ganz herzlich ein!
URL:https://ennigerloh-kirche.de/event/gottesdienste-ostern/
LOCATION:St. Margaretha Kirche\, Hessenknapp 10\, Ennigerloh_Ostenfelde\, NRW\, 59320\, Deutschland
END:VEVENT
BEGIN:VEVENT
DTSTART;TZID=UTC:20260405T093000
DTEND;TZID=UTC:20260405T103000
DTSTAMP:20260420T093315
CREATED:20260226T164323Z
LAST-MODIFIED:20260226T164323Z
UID:15863-1775381400-1775385000@ennigerloh-kirche.de
SUMMARY:Ostersonntag Gottesdienst - St. Laurentius
DESCRIPTION:Die Eucharistiefeier am Ostersonntag\, 05. April\, ist um 9.30 Uhr. \nZur Mitfeier der Gottesdienste an den Kar- und Ostertagen laden wir ganz herzlich ein!
URL:https://ennigerloh-kirche.de/event/ostersonntag-gottesdienst-st-laurentius/
LOCATION:St. Laurentius Kirche\, Westkirchen
END:VEVENT
BEGIN:VEVENT
DTSTART;TZID=UTC:20260405T080000
DTEND;TZID=UTC:20260405T080000
DTSTAMP:20260420T093315
CREATED:20260327T095155Z
LAST-MODIFIED:20260327T095155Z
UID:16361-1775376000-1775376000@ennigerloh-kirche.de
SUMMARY:Osterfeuer KLJB Ennigerloh
DESCRIPTION:Die KLJB Ennigerloh lädt am 05.04.2026 ab 18 Uhr  zum alljährlichen Osterfeuer ein. Das Feuer wird gegen Einbruch der Dunkelheit In der Hoest 22 angezündet. Für das leibliche Wohl ist durch ausreichend Getränke\, Bratwurst und Stockbrot gesorgt.
URL:https://ennigerloh-kirche.de/event/osterfeuer-kljb-ennigerloh-2/
END:VEVENT
BEGIN:VEVENT
DTSTART;TZID=UTC:20260404T210000
DTEND;TZID=UTC:20260404T230000
DTSTAMP:20260420T093315
CREATED:20260312T162805Z
LAST-MODIFIED:20260312T162805Z
UID:16168-1775336400-1775343600@ennigerloh-kirche.de
SUMMARY:Feier der Osternacht St. Jakobus
DESCRIPTION:Feier der Osternacht  \nWir feiern am Karsamstag\, 04.04. um 21 Uhr die Ostenachtfeier in der St. Jakobus Kirche. \nDieses ist die wichtigste christliche liturgische Feier. Schließlich gründet unser ganzer Glaube auf der Auferweckung Jesu. Er selbst ist das Licht\, das auch das Dunkel des Todes erhellt. Darum wird im Anschluss an den festlichen Gottesdienst das Osterfeuer entzündet. \nDie ganze Gemeinde ist dann zum Ausklang der Feier zum Ostereieressen in das Jakobushaus eingeladen.
URL:https://ennigerloh-kirche.de/event/feier-der-osternacht-st-jakobus/
LOCATION:St. Jakobus Kirche\, Clemens- August- Straße\, Ennigerloh\, NRW\, 59320\, Deutschland
END:VEVENT
END:VCALENDAR