BEGIN:VCALENDAR
VERSION:2.0
PRODID:-//St. Jakobus Ennigerloh - ECPv6.15.20//NONSGML v1.0//EN
CALSCALE:GREGORIAN
METHOD:PUBLISH
X-WR-CALNAME:St. Jakobus Ennigerloh
X-ORIGINAL-URL:https://ennigerloh-kirche.de
X-WR-CALDESC:Veranstaltungen für St. Jakobus Ennigerloh
REFRESH-INTERVAL;VALUE=DURATION:PT1H
X-Robots-Tag:noindex
X-PUBLISHED-TTL:PT1H
BEGIN:VTIMEZONE
TZID:UTC
BEGIN:STANDARD
TZOFFSETFROM:+0000
TZOFFSETTO:+0000
TZNAME:UTC
DTSTART:20250101T000000
END:STANDARD
END:VTIMEZONE
BEGIN:VEVENT
DTSTART;TZID=UTC:20260508T190000
DTEND;TZID=UTC:20260508T200000
DTSTAMP:20260424T160213
CREATED:20260423T144423Z
LAST-MODIFIED:20260423T144423Z
UID:16644-1778266800-1778270400@ennigerloh-kirche.de
SUMMARY:St. Margaretha Ostenfelde Maiandacht der Frauengemeinschaft in der Dromberg-Kapelle
DESCRIPTION:Die kfd Ostenfelde lädt am Freitag\, 08. Mai 26\, um 19 Uhr zur Maiandacht in die Dromberg-Kapelle ein. Sie findet unter Mitwirkung des Kirchenchores statt.
URL:https://ennigerloh-kirche.de/event/st-margaretha-ostenfelde-maiandacht-der-frauengemeinschaft-in-der-dromberg-kapelle/
LOCATION:Dromberg-Kapelle\, Zum Hohen Kreuz\, Ostenfelde\, 59320
END:VEVENT
BEGIN:VEVENT
DTSTART;TZID=UTC:20260508T190000
DTEND;TZID=UTC:20260508T220000
DTSTAMP:20260424T160213
CREATED:20260219T162540Z
LAST-MODIFIED:20260219T162540Z
UID:15708-1778266800-1778277600@ennigerloh-kirche.de
SUMMARY:Cocktail-Abend KFW - St. Laurentius
DESCRIPTION:Am Freitag\, 8. Mai 2026\, 19.00 Uhr\, laden wir zu einem geselligen Cocktail-Abend am/ins Pfarrheim ein. \nAnmeldungen bis zum 4. Mai bei Mathilde Bals\, Tel. 1331.
URL:https://ennigerloh-kirche.de/event/cocktail-abend-kfw-st-laurentius/
LOCATION:Pfarrheim St. Laurentius\, Westkirchen
END:VEVENT
BEGIN:VEVENT
DTSTART;TZID=UTC:20260509T100000
DTEND;TZID=UTC:20260509T120000
DTSTAMP:20260424T160213
CREATED:20260410T080716Z
LAST-MODIFIED:20260410T080716Z
UID:16489-1778320800-1778328000@ennigerloh-kirche.de
SUMMARY:Comic-Tag Bücherei Ennigerloh
DESCRIPTION:Comic-Tag in der Bücherei \nAm Samstag\, 09.05. findet von 10 bis 12 Uhr ein kostenloser Comic-Tag in der Bücherei statt.
URL:https://ennigerloh-kirche.de/event/comic-tag-buecherei-ennigerloh/
LOCATION:Bücherei Ennigerloh\, Liebfrauenstr. 1\, Ennigerloh\, NRW\, 59320\, Deutschland
END:VEVENT
BEGIN:VEVENT
DTSTART;TZID=UTC:20260509T100000
DTEND;TZID=UTC:20260509T170000
DTSTAMP:20260424T160213
CREATED:20260421T085652Z
LAST-MODIFIED:20260421T085652Z
UID:16602-1778320800-1778346000@ennigerloh-kirche.de
SUMMARY:Erstkommunion St. Mauritius
DESCRIPTION:14 Kinder aus der Gemeinde haben sich ein halbes Jahr auf diesen Tag vorbereitet. \nZur Erstkommunionsfeier am Samstag\, 09. Mai um 10.00 Uhr sind alle herzlich eingeladen mitzufeiern. Wir wünschen allen Erstkommunionkindern und Ihren Familien einen unvergesslichen Tag und Gottes Segen. \n  \nFür das letzte Üben treffen sich die Kinder mit einem Elternteil am Montag\, 04. Mai um 17.00 Uhr in der Mauritiuskirche. \n  \nDer Dankgottesdienst findet am Montag\, 10. Mai um 09.00 Uhr in der Mauritiuskirche statt. \n 
URL:https://ennigerloh-kirche.de/event/erstkommunion-st-mauritius-2/
LOCATION:St. Mauritius Kirche
ORGANIZER;CN="Kath. Kirchengemeinde St. Mauritius":MAILTO:stmauritius-enniger@bistum-muenster.de
END:VEVENT
BEGIN:VEVENT
DTSTART;TZID=UTC:20260510T193000
DTEND;TZID=UTC:20260510T200000
DTSTAMP:20260424T160213
CREATED:20260226T165806Z
LAST-MODIFIED:20260226T165806Z
UID:15869-1778441400-1778443200@ennigerloh-kirche.de
SUMMARY:Maiandacht an der Marienstatue der Familie Beckmann - St. Laurentius
DESCRIPTION:Maiandacht \nEine weitere Maiandacht ist am Sonntag\, 10. Mai\, um 19.30 Uhr am Marienbild der Familie Beckmann Büttrup 10. Seien Sie herzlich willkommen. \n 
URL:https://ennigerloh-kirche.de/event/maiandacht-an-der-marienstatue-der-familie-beckmann-st-laurentius/
LOCATION:NRW
END:VEVENT
BEGIN:VEVENT
DTSTART;TZID=UTC:20260511T150000
DTEND;TZID=UTC:20260511T170000
DTSTAMP:20260424T160213
CREATED:20260416T144730Z
LAST-MODIFIED:20260416T144730Z
UID:16548-1778511600-1778518800@ennigerloh-kirche.de
SUMMARY:Caritaskonferenz
DESCRIPTION:Caritaskonferenz \nDie Mitglieder der Caritaskonferenz kommen zur nächsten Sitzung am Montag\, 11.05. um 15 Uhr im Jakobushaus zusammen.
URL:https://ennigerloh-kirche.de/event/caritaskonferenz-4/
LOCATION:Jakobus- Haus\, Clemens- August- Straße\, Ennigerloh\, 59320
END:VEVENT
BEGIN:VEVENT
DTSTART;TZID=UTC:20260511T160000
DTEND;TZID=UTC:20260511T170000
DTSTAMP:20260424T160213
CREATED:20250917T091119Z
LAST-MODIFIED:20250917T091119Z
UID:13686-1778515200-1778518800@ennigerloh-kirche.de
SUMMARY:Üben Erstkommunion St. Jakobus
DESCRIPTION:Die Kinder die am 14.05.2026 um 8.45 Uhr zur ersten heiligen Kommunion gehen\, treffen sich am Montag\, 11.05. um 16 Uhr zum Üben in der Jakobuskirche.
URL:https://ennigerloh-kirche.de/event/ueben-erstkommunion-st-jakobus-4/
LOCATION:St. Jakobus Kirche\, Clemens- August- Straße\, Ennigerloh\, NRW\, 59320\, Deutschland
END:VEVENT
BEGIN:VEVENT
DTSTART;TZID=UTC:20260511T170000
DTEND;TZID=UTC:20260511T180000
DTSTAMP:20260424T160213
CREATED:20250917T091208Z
LAST-MODIFIED:20250917T091208Z
UID:13688-1778518800-1778522400@ennigerloh-kirche.de
SUMMARY:Üben Erstkommunion St. Jakobus
DESCRIPTION:Die Kinder die am 14.05.2026 um 10.45 Uhr zur ersten heiligen Kommunion gehen\, treffen sich am Montag\, 11.05. um 17 Uhr zum Üben in der Jakobuskirche.
URL:https://ennigerloh-kirche.de/event/ueben-erstkommunion-st-jakobus-5/
LOCATION:St. Jakobus Kirche\, Clemens- August- Straße\, Ennigerloh\, NRW\, 59320\, Deutschland
END:VEVENT
BEGIN:VEVENT
DTSTART;TZID=UTC:20260511T190000
DTEND;TZID=UTC:20260511T200000
DTSTAMP:20260424T160213
CREATED:20260416T145105Z
LAST-MODIFIED:20260416T150212Z
UID:16550-1778526000-1778529600@ennigerloh-kirche.de
SUMMARY:Reflexion Firmkatechese St. Jakobus
DESCRIPTION:Reflexion Firmkatechese \nDie Firmkatechet*innen treffen sich am Montag\, 11.05. um 19 Uhr zur Reflexion der diesjährigen Firmkatechese mit Pfarrer Dieckmann im Jakobushaus. \n 
URL:https://ennigerloh-kirche.de/event/reflexion-firmkatechese-st-jakobus/
LOCATION:Jakobus- Haus\, Clemens- August- Straße\, Ennigerloh\, 59320
END:VEVENT
BEGIN:VEVENT
DTSTART;TZID=UTC:20260512T083000
DTEND;TZID=UTC:20260512T110000
DTSTAMP:20260424T160213
CREATED:20260416T144031Z
LAST-MODIFIED:20260416T144031Z
UID:16536-1778574600-1778583600@ennigerloh-kirche.de
SUMMARY:Morgentreff St. Jakobus
DESCRIPTION:Morgentreff \nAlle Frauen sind herzlich eingeladen am Dienstag\, 12.05. um 8.30 Uhr zu einer Wort-Gottes-Feier mit Sabine Grimpe in der Jakobuskirche. Anschließend wird gemeinsam im Jakobushaus gefrühstückt.
URL:https://ennigerloh-kirche.de/event/morgentreff-st-jakobus-22/
LOCATION:St. Jakobus Kirche\, Clemens- August- Straße\, Ennigerloh\, NRW\, 59320\, Deutschland
END:VEVENT
BEGIN:VEVENT
DTSTART;TZID=UTC:20260512T090000
DTEND;TZID=UTC:20260512T103000
DTSTAMP:20260424T160213
CREATED:20260416T143803Z
LAST-MODIFIED:20260416T143803Z
UID:16532-1778576400-1778581800@ennigerloh-kirche.de
SUMMARY:AK Flüchtendenhilfe
DESCRIPTION:AK Flüchtendenhilfe  \nDer Arbeitskreis Flüchtendenhilfe tagt am Dienstag\, 12.05. um 9 Uhr im Jakobushaus.
URL:https://ennigerloh-kirche.de/event/ak-fluechtendenhilfe-3/
LOCATION:Jakobus- Haus\, Clemens- August- Straße\, Ennigerloh\, 59320
END:VEVENT
BEGIN:VEVENT
DTSTART;TZID=UTC:20260513T150000
DTEND;TZID=UTC:20260513T180000
DTSTAMP:20260424T160213
CREATED:20260421T090053Z
LAST-MODIFIED:20260421T090053Z
UID:16604-1778684400-1778695200@ennigerloh-kirche.de
SUMMARY:Seniorinnen und Senioren St. Mauritus
DESCRIPTION:Alle Seniorinnen und Senioren Enniger feiern am 13. Mai um 15.00 Uhr die Maiandacht in der Kirche. Anmeldungen nimmt Annette Kottenstedde entgegen.
URL:https://ennigerloh-kirche.de/event/seniorinnen-und-senioren-st-mauritus/
LOCATION:St. Mauritius Kirche
ORGANIZER;CN="Kath. Kirchengemeinde St. Mauritius":MAILTO:stmauritius-enniger@bistum-muenster.de
END:VEVENT
BEGIN:VEVENT
DTSTART;TZID=UTC:20260513T170000
DTEND;TZID=UTC:20260513T200000
DTSTAMP:20260424T160213
CREATED:20260219T162053Z
LAST-MODIFIED:20260219T162053Z
UID:15696-1778691600-1778702400@ennigerloh-kirche.de
SUMMARY:Fahrradwallfahrt Landfrauen und KFW - St. Laurentius
DESCRIPTION:Fahrradwallfahrt gemeinsam mit der KfW mit anschließendem Imbiss im Pfarrheim \nDie Fahrrad-Wallfahrt gemeinsam mit den Landfrauen startet am Mittwoch\, 13. Mai 2026. \nAbfahrt ist um 17:00 Uhr an der Kirche.  Wir beschließen die Tour in gemütlicher Runde mit einem Imbiss im Pfarrheim. \nAnmeldungen bis zum 10. Mai bei Mathilde Bals\, Tel 1331\, \noder Claudia Laukötter\, Tel. 935686.
URL:https://ennigerloh-kirche.de/event/fahrradwallfahrt-landfrauen-und-kfw-st-laurentius/
LOCATION:St. Laurentius Kirche\, Westkirchen
END:VEVENT
BEGIN:VEVENT
DTSTART;TZID=UTC:20260513T173000
DTEND;TZID=UTC:20260513T183000
DTSTAMP:20260424T160213
CREATED:20260416T143852Z
LAST-MODIFIED:20260416T143852Z
UID:16534-1778693400-1778697000@ennigerloh-kirche.de
SUMMARY:Vorstandssitzung Tafel
DESCRIPTION:Vorstandssitzung Tafel \nDer Vorstand der Tafel trifft sich am Mittwoch\, 13.05. um 17.30 Uhr im Jakobushaus.
URL:https://ennigerloh-kirche.de/event/vorstandssitzung-tafel/
LOCATION:Jakobus- Haus\, Clemens- August- Straße\, Ennigerloh\, 59320
END:VEVENT
BEGIN:VEVENT
DTSTART;TZID=UTC:20260513T190000
DTEND;TZID=UTC:20260513T200000
DTSTAMP:20260424T160213
CREATED:20260416T144258Z
LAST-MODIFIED:20260416T144258Z
UID:16542-1778698800-1778702400@ennigerloh-kirche.de
SUMMARY:Vorabendmesse Christi Himmelfahrt St. Jakobus
DESCRIPTION:Vorabendmesse Christi Himmelfahrt\nHerzlich laden wir am Mittwoch\, 13.05. um 19 Uhr zur Vorabendmesse zu Christi Himmelfahrt in die Jakobuskirche ein.
URL:https://ennigerloh-kirche.de/event/vorabendmesse-christi-himmelfahrt-st-jakobus-2/
LOCATION:St. Jakobus Kirche\, Clemens- August- Straße\, Ennigerloh\, NRW\, 59320\, Deutschland
END:VEVENT
BEGIN:VEVENT
DTSTART;TZID=UTC:20260514T084500
DTEND;TZID=UTC:20260514T120000
DTSTAMP:20260424T160213
CREATED:20250917T091358Z
LAST-MODIFIED:20250917T091358Z
UID:13690-1778748300-1778760000@ennigerloh-kirche.de
SUMMARY:Feier der Erstkommunion St. Jakobus
DESCRIPTION:Am Donnerstag\, 14.05. um 8.45 Uhr und 10.45 Uhr finden die Erstkommunionfeiern in der St. Jakobus Kirche statt.
URL:https://ennigerloh-kirche.de/event/feier-der-erstkommunion-st-jakobus-2/
LOCATION:St. Jakobus Kirche\, Clemens- August- Straße\, Ennigerloh\, NRW\, 59320\, Deutschland
END:VEVENT
BEGIN:VEVENT
DTSTART;TZID=UTC:20260514T183000
DTEND;TZID=UTC:20260514T193000
DTSTAMP:20260424T160213
CREATED:20260416T144435Z
LAST-MODIFIED:20260416T144647Z
UID:16544-1778783400-1778787000@ennigerloh-kirche.de
SUMMARY:Friedensgebet und Eucharistiefeier an Christi Himmelfahrt fallen aus St. Jakobus
DESCRIPTION:Friedensgebet\, Maiandacht und Eucharistiefeiern am Donnerstag und Freitag fallen aus \nAufgrund des Feiertages Christi Himmelfahrt und der Erstkommunion am 14.05. entfallen das Friedensgebet um 18.30 Uhr und die Eucharistiefeier um 19 Uhr.
URL:https://ennigerloh-kirche.de/event/friedensgebet-und-eucharistiefeier-an-christi-himmelfahrt-fallen-aus-st-jakobus/
LOCATION:St. Jakobus Kirche\, Clemens- August- Straße\, Ennigerloh\, NRW\, 59320\, Deutschland
END:VEVENT
BEGIN:VEVENT
DTSTART;TZID=UTC:20260515T090000
DTEND;TZID=UTC:20260515T100000
DTSTAMP:20260424T160213
CREATED:20250917T091508Z
LAST-MODIFIED:20250917T091508Z
UID:13692-1778835600-1778839200@ennigerloh-kirche.de
SUMMARY:Dankgottesdienst Erstkommunion
DESCRIPTION:Der Dankgottesdienst der Erstkommunionkinder findet am Freitag\, 15.05. um 9 Uhr in der Jakobuskirche statt.
URL:https://ennigerloh-kirche.de/event/dankgottesdienst-erstkommunion/
LOCATION:St. Jakobus Kirche\, Clemens- August- Straße\, Ennigerloh\, NRW\, 59320\, Deutschland
END:VEVENT
BEGIN:VEVENT
DTSTART;TZID=UTC:20260515T093000
DTEND;TZID=UTC:20260515T103000
DTSTAMP:20260424T160213
CREATED:20260416T144514Z
LAST-MODIFIED:20260416T144525Z
UID:16546-1778837400-1778841000@ennigerloh-kirche.de
SUMMARY:Maiandacht und Eucharistiefeier am 15.05. fallen aus St. Jakobus
DESCRIPTION:Da am Freitag\, 15.05. um 9 Uhr der Dankgottesdienst für die Erstkommunionkinder gefeiert wird\, können die Maiandacht um 9.30 Uhr und auch die Eucharistiefeier um 10 Uhr leider nicht stattfinden.
URL:https://ennigerloh-kirche.de/event/maiandacht-und-eucharistiefeier-am-15-05-fallen-aus-st-jakobus/
LOCATION:St. Jakobus Kirche\, Clemens- August- Straße\, Ennigerloh\, NRW\, 59320\, Deutschland
END:VEVENT
BEGIN:VEVENT
DTSTART;TZID=UTC:20260517T193000
DTEND;TZID=UTC:20260517T200000
DTSTAMP:20260424T160213
CREATED:20260226T165944Z
LAST-MODIFIED:20260226T165944Z
UID:15871-1779046200-1779048000@ennigerloh-kirche.de
SUMMARY:Maiandacht Abschluss am Schloß - St. Laurentius
DESCRIPTION:Maiandacht \nZu einer Maiandacht sind Sie am Sonntag\, 17. Mai\, um 19.30 Uhr am Marienbild am Haus Diek\, Freckenhorster Str. herzlich eingeladen!
URL:https://ennigerloh-kirche.de/event/maiandacht-abschluss-am-schloss-st-laurentius/
LOCATION:NRW
END:VEVENT
BEGIN:VEVENT
DTSTART;TZID=UTC:20260518T190000
DTEND;TZID=UTC:20260518T200000
DTSTAMP:20260424T160213
CREATED:20260219T152649Z
LAST-MODIFIED:20260219T152649Z
UID:15679-1779130800-1779134400@ennigerloh-kirche.de
SUMMARY:Monatliche Gemeinschaftsmesse KFW - St. Laurentius
DESCRIPTION:Monatliche Gemeinschaftsmesse \nDie Kath. Frauengemeinschaft St. Laurentius lädt jeden letzten Montag im Monat um 19:00 Uhr zu ihren Gottesdiensten ein.\n\n\n18. Mai 2026 \n27. Juli 2026 \n31. August 2026
URL:https://ennigerloh-kirche.de/event/monatliche-gemeinschaftsmesse-kfw-st-laurentius-8/
LOCATION:St. Laurentius Kirche\, Westkirchen
END:VEVENT
BEGIN:VEVENT
DTSTART;TZID=UTC:20260519T143000
DTEND;TZID=UTC:20260519T180000
DTSTAMP:20260424T160213
CREATED:20260226T160849Z
LAST-MODIFIED:20260226T160849Z
UID:15823-1779201000-1779213600@ennigerloh-kirche.de
SUMMARY:Fahrt zum Waffel-Paradies - Senioren St. Laurentius
DESCRIPTION:Dienstag\, den 19. Mai 2026\, 15:00 Uhr Fahrt zum Waffel-Paradies \nAm 19. Mai fahren wir in Fahrgemeinschaften zum Waffel-Paradies auf dem Hof Altenau in Oelde. Dort werden wir Waffeln in allen Varianten auf Wunsch serviert bekommen.\nWir treffen uns um 14:30 Uhr am Feuerwehrhaus. \nDie Anmeldung nehmen Elfriede Nagel\, Tel. Nr. 02587/388 oder Tine Weisner Tel. 02587/661 bis Dienstag\, den 12. Mai 2026 entgegen.
URL:https://ennigerloh-kirche.de/event/fahrt-zum-waffel-paradies-senioren-st-laurentius/
LOCATION:NRW
END:VEVENT
BEGIN:VEVENT
DTSTART;TZID=UTC:20260519T143000
DTEND;TZID=UTC:20260519T180000
DTSTAMP:20260424T160213
CREATED:20260423T144725Z
LAST-MODIFIED:20260423T144725Z
UID:16646-1779201000-1779213600@ennigerloh-kirche.de
SUMMARY:St. Margaretha Ostenfelde Maiandacht der Senioren
DESCRIPTION:Die Senioren feiern am Dienstag\, 19. Mai um 14.30 Uhr eine Maiandacht in der Kirche\, hierzu sind alle Gemeindemitglieder und Interessierte herzlich eingeladen. \nIm Anschluss ist ein gemütliches Beisammen sein zum Grillen im Pfarrheim vorgesehen.
URL:https://ennigerloh-kirche.de/event/st-margaretha-ostenfelde-maiandacht-der-senioren/
LOCATION:Pfarrheim St. Margaretha\, Pfarrer-Lehmköster-Weg\, Ennigerloh-Ostenfelde\, NRW\, 59320\, Deutschland
END:VEVENT
BEGIN:VEVENT
DTSTART;TZID=UTC:20260519T190000
DTEND;TZID=UTC:20260519T210000
DTSTAMP:20260424T160213
CREATED:20260423T084432Z
LAST-MODIFIED:20260423T084451Z
UID:16608-1779217200-1779224400@ennigerloh-kirche.de
SUMMARY:Maiandacht vor dem Pfarrhaus St. Jakobus
DESCRIPTION:Maiandachten\nIm Monat Mai feiern wir jeden Dienstag an unterschiedlichen Orten in der Gemeinde Maiandachten zu Ehren Marias. \nSo laden wir herzlich zur nächsten Maiandacht\, am Dienstag\, 19.05. um 19 Uhr vor dem Pfarrhaus ein. Gestaltet wird diese Maiandacht vom Gemeinderat. Anschließend sorgt der Gemeinderat für Grillwürstchen und Getränke.
URL:https://ennigerloh-kirche.de/event/maiandacht-st-jakobus-13/
LOCATION:Jakobus- Haus\, Clemens- August- Straße\, Ennigerloh\, 59320
END:VEVENT
BEGIN:VEVENT
DTSTART;TZID=UTC:20260519T200000
DTEND;TZID=UTC:20260519T220000
DTSTAMP:20260424T160213
CREATED:20260423T084935Z
LAST-MODIFIED:20260423T085034Z
UID:16613-1779220800-1779228000@ennigerloh-kirche.de
SUMMARY:Verwaltungsrat St. Jakobus
DESCRIPTION:Verwaltungsrat \nDer Verwaltungsrat tagt am Dienstag\, 19.05. um 20 Uhr im Jakobushaus.
URL:https://ennigerloh-kirche.de/event/verwaltungsrat-st-jakobus-7/
LOCATION:Jakobus- Haus\, Clemens- August- Straße\, Ennigerloh\, 59320
END:VEVENT
BEGIN:VEVENT
DTSTART;TZID=UTC:20260521T160000
DTEND;TZID=UTC:20260521T170000
DTSTAMP:20260424T160213
CREATED:20260409T140851Z
LAST-MODIFIED:20260409T140851Z
UID:16429-1779379200-1779382800@ennigerloh-kirche.de
SUMMARY:Kinderkirche St. Jakobus
DESCRIPTION:Einladung zur Kinderkirche \nUnter dem Motto „So groß wie ein Baum“ laden wir alle Kinder herzlich ein\, gemeinsam zu entdecken\, zu singen und zu wachsen. \nDie Kinderkirche findet am 21. Mai um 16:00 Uhr in der Jakobuskirche statt. \nFreut euch auf eine fröhliche Zeit mit Geschichten\, Liedern und spannenden Aktionen rund um das Thema Wachstum und Stärke. \nWir freuen uns auf euch.
URL:https://ennigerloh-kirche.de/event/kinderkirche-st-jakobus-13/
LOCATION:St. Jakobus Kirche\, Clemens- August- Straße\, Ennigerloh\, NRW\, 59320\, Deutschland
END:VEVENT
BEGIN:VEVENT
DTSTART;TZID=UTC:20260521T160500
DTEND;TZID=UTC:20260521T193000
DTSTAMP:20260424T160213
CREATED:20260317T110948Z
LAST-MODIFIED:20260317T110948Z
UID:16227-1779379500-1779391800@ennigerloh-kirche.de
SUMMARY:Seniorenfahrt zum Spargelbuffet St. Jakobus
DESCRIPTION:Senioren \nAlle Seniorinnen und Senioren sind am Donnerstag\, 21.05. herzlich zu einer Fahrt zum Spargel Buffet auf dem Eichenhof Schlüter in Everswinkel eingeladen. Der Bus fährt um 16.05 Uhr ab Bushaltestelle Rottendorf und um 16.15 Uhr ab Markt. Die Rückkehr ist gegen 19.30 Uhr geplant. Die Kostenbeitrag beträgt etwa 40 Euro und umfasst die Busfahrt sowie das Spargelbuffet. Anmeldungen werden gerne im Pfarrbüro entgegengenommen.
URL:https://ennigerloh-kirche.de/event/seniorenfahrt-zum-spargelbuffet-st-jakobus/
LOCATION:NRW
END:VEVENT
BEGIN:VEVENT
DTSTART;TZID=UTC:20260521T183000
DTEND;TZID=UTC:20260521T184500
DTSTAMP:20260424T160213
CREATED:20260423T082945Z
LAST-MODIFIED:20260423T082945Z
UID:16606-1779388200-1779389100@ennigerloh-kirche.de
SUMMARY:Friedensgebet St. Jakobus
DESCRIPTION:Friedensgebet \nZu einem 15minütigen Friedensgebet laden wir am Donnerstag\, 21.05. um 18.30 Uhr in die Jakobuskirche ein.
URL:https://ennigerloh-kirche.de/event/friedensgebet-st-jakobus-63/
LOCATION:St. Jakobus Kirche\, Clemens- August- Straße\, Ennigerloh\, NRW\, 59320\, Deutschland
END:VEVENT
BEGIN:VEVENT
DTSTART;TZID=UTC:20260521T200000
DTEND;TZID=UTC:20260521T220000
DTSTAMP:20260424T160213
CREATED:20260423T085117Z
LAST-MODIFIED:20260423T085117Z
UID:16615-1779393600-1779400800@ennigerloh-kirche.de
SUMMARY:Gemeinderat St. Jakobus
DESCRIPTION:Gemeinderat \nDer Gemeinderat kommt zu seiner nächsten Sitzung am Donnerstag\, 21.05. um 20 Uhr im Jakobushaus zusammen.
URL:https://ennigerloh-kirche.de/event/gemeinderat-st-jakobus-12/
LOCATION:Jakobus- Haus\, Clemens- August- Straße\, Ennigerloh\, 59320
END:VEVENT
BEGIN:VEVENT
DTSTART;TZID=UTC:20260522T093000
DTEND;TZID=UTC:20260522T100000
DTSTAMP:20260424T160213
CREATED:20260423T084541Z
LAST-MODIFIED:20260423T084541Z
UID:16611-1779442200-1779444000@ennigerloh-kirche.de
SUMMARY:Maiandacht St. Jakobus
DESCRIPTION:Maiandacht\nHerzlich laden wir zur Maiandacht am Freitag\, 22.05. um 09.30 Uhr in die Jakobuskirche ein. Anschließend feiern wir um 10 Uhr die Eucharistiefeier.
URL:https://ennigerloh-kirche.de/event/maiandacht-st-jakobus-14/
LOCATION:St. Jakobus Kirche\, Clemens- August- Straße\, Ennigerloh\, NRW\, 59320\, Deutschland
END:VEVENT
END:VCALENDAR